BEGIN:VCALENDAR
VERSION:2.0
PRODID:-//CPP, the Cradle of a New African Collective Consciousness Based on Ubuntu - ECPv5.16.3.1//NONSGML v1.0//EN
CALSCALE:GREGORIAN
METHOD:PUBLISH
X-ORIGINAL-URL:http://www.cpp-ubuntu.org/en
X-WR-CALDESC:Events for CPP, the Cradle of a New African Collective Consciousness Based on Ubuntu
REFRESH-INTERVAL;VALUE=DURATION:PT1H
X-Robots-Tag:noindex
X-PUBLISHED-TTL:PT1H
BEGIN:VTIMEZONE
TZID:UTC
BEGIN:STANDARD
TZOFFSETFROM:+0000
TZOFFSETTO:+0000
TZNAME:UTC
DTSTART:20210101T000000
END:STANDARD
TZID:America/Los_Angeles
BEGIN:DAYLIGHT
TZOFFSETFROM:-0800
TZOFFSETTO:-0700
TZNAME:PDT
DTSTART:20210314T100000
END:DAYLIGHT
BEGIN:STANDARD
TZOFFSETFROM:-0700
TZOFFSETTO:-0800
TZNAME:PST
DTSTART:20211107T090000
END:STANDARD
END:VTIMEZONE
BEGIN:VEVENT
DTSTART;TZID=UTC:20210713T080000
DTEND;TZID=UTC:20210713T170000
DTSTAMP:20260423T112411
CREATED:20210719T133449Z
LAST-MODIFIED:20210719T133846Z
UID:844-1626163200-1626195600@www.cpp-ubuntu.org
SUMMARY:Ubuntu Dialogues | Virtual Practitioners Symposium
DESCRIPTION:Virtual Practitioners Symposium
URL:http://www.cpp-ubuntu.org/en/event/ubuntu-dialogues-virtual-practitioners-symposium/
CATEGORIES:Conferences
ATTACH;FMTTYPE=image/jpeg:http://www.cpp-ubuntu.org/wp-content/uploads/2021/07/Ubuntu-Dialogues.jpg
END:VEVENT
BEGIN:VEVENT
DTSTART;TZID=America/Los_Angeles:20210228T080000
DTEND;TZID=America/Los_Angeles:20210228T170000
DTSTAMP:20260423T112411
CREATED:20210201T214025Z
LAST-MODIFIED:20210201T214035Z
UID:643-1614499200-1614531600@www.cpp-ubuntu.org
SUMMARY:Conference on Pan-Africanism
DESCRIPTION:
URL:http://www.cpp-ubuntu.org/en/event/conference-on-pan-africanism/
LOCATION:LA Convention Center\, Los Angeles\, CA\, United States
CATEGORIES:Conferences
ATTACH;FMTTYPE=image/jpeg:http://www.cpp-ubuntu.org/wp-content/uploads/2021/01/FB_IMG_1610031203148-1.jpg
END:VEVENT
END:VCALENDAR